BEGIN:VCALENDAR
VERSION:2.0
PRODID:-//Gemeinde Subingen//NONSGML kigkonsult.se iCalcreator 2.16.12//
METHOD:PUBLISH
X-MS-OLK-FORCEINSPECTOROPEN:TRUE
BEGIN:VEVENT
UID:20260422T134944CEST-4079LJvwbn@Gemeinde Subingen
DTSTAMP:20260422T114944Z
DESCRIPTION:\nAnlässe der Vereine und Organisationen (auch der umliegenden 
 Gemeinden) finden Sie hier\,\n\nunter sogenda.ch \n\nund/oder im Dorfkalen
 der 2026\n 
DTSTART:20251218T000000
DTEND:20270110T235900
ORGANIZER:MAILTO:Gemeinde Subingen <info@protagonist.ch>
SUMMARY:Anlässe 2026
END:VEVENT
END:VCALENDAR
